BEGIN:VCALENDAR
VERSION:2.0
PRODID:-//wp-events-plugin.com//7.0.5//EN
TZID:Africa/Cairo
X-WR-TIMEZONE:Africa/Cairo
BEGIN:VEVENT
UID:0-70@engo.co.za
DTSTART;TZID=Africa/Johannesburg;VALUE=DATE:20260710
DTEND;TZID=Africa/Johannesburg;VALUE=DATE:20260711
DTSTAMP:20260331T095626Z
URL:https://engo.co.za/events/viljoenskroon-jeugsorgsentrum-gholfdag/
SUMMARY:Viljoenskroon Kinder- en Jeugsorgsentrum Gholfdag
DESCRIPTION:\n\n\n\n\n\n\nKom geniet ’n heerlike dag op die baan ter onde
 rsteuning van Viljoenskroon Jeugsorgsentrum. Hierdie opwindende fondsinsam
 elings-gholfdag vind plaas by Orkney Gholfklub op 10 Julie 2026\, en bring
  gholfspelers\, ondersteuners en die gemeenskap saam vir ’n goeie doel.\
 nDie formaat van die dag is ’n 2 Bal American Scramble\, met ’n halfwe
 g-ete ingesluit om spelers verfris en energiek te hou. Spanne van vier kan
  inskryf teen R2000 per span\, of R2500 per span\, wat ’n geborgde “wa
 tering hole” insluit.\nDie dag begin met ’n “shotgun start” om 10:
 00\, wat ’n prettige en mededingende atmosfeer vir spelers van alle vlak
 ke belowe.\nNeem asseblief kennis dat gholfkarretjies direk by Orkney Ghol
 fklub bespreek moet word.\nAlle opbrengste gaan ten bate van die waardevol
 le werk van Viljoenskroon Jeugsorgsentrum\, en dra by om ’n verskil te m
 aak in die lewens van kinders en jeug in nood.\nBesprekings &amp\; Navrae:
 Marlé – 060 841 5188Charlie – 079 998 9368\nKom speel saam en help on
 s om ’n verskil te maak!\n\n\n\n\n\n\n\n\n\n\n\n\n
ATTACH;FMTTYPE=image/jpeg:https://engo.co.za/wp-content/uploads/2026/03/Vi
 ljoenskroon-Gholfdag.jpeg
END:VEVENT
BEGIN:VTIMEZONE
TZID:Africa/Johannesburg
X-LIC-LOCATION:Africa/Johannesburg
BEGIN:STANDARD
DTSTART:20250710T000000
TZOFFSETFROM:+0200
TZOFFSETTO:+0200
TZNAME:SAST
END:STANDARD
END:VTIMEZONE
END:VCALENDAR