BEGIN:VCALENDAR
VERSION:2.0
PRODID:-//wp-events-plugin.com//7.0.5//EN
TZID:Africa/Cairo
X-WR-TIMEZONE:Africa/Cairo
BEGIN:VEVENT
UID:0-30@engo.co.za
DTSTART;TZID=Africa/Johannesburg:20251115T083000
DTEND;TZID=Africa/Johannesburg:20251115T130000
DTSTAMP:20251114T084628Z
URL:https://engo.co.za/events/speletjies-dag-merafong-kinder-en-jeugsorgse
 ntrum/
SUMMARY:Speletjiesdag | Merafong Kinder- en Jeugsorgsentrum
DESCRIPTION:
ATTACH;FMTTYPE=image/jpeg:https://engo.co.za/wp-content/uploads/2025/11/Ga
 mes-Day.jpg
END:VEVENT
BEGIN:VTIMEZONE
TZID:Africa/Johannesburg
X-LIC-LOCATION:Africa/Johannesburg
BEGIN:STANDARD
DTSTART:20241115T083000
TZOFFSETFROM:+0200
TZOFFSETTO:+0200
TZNAME:SAST
END:STANDARD
END:VTIMEZONE
END:VCALENDAR