BEGIN:VCALENDAR
VERSION:2.0
PRODID:-//wp-events-plugin.com//7.0.5//EN
TZID:Africa/Cairo
X-WR-TIMEZONE:Africa/Cairo
BEGIN:VEVENT
UID:0-53@engo.co.za
DTSTART;TZID=Africa/Johannesburg;VALUE=DATE:20260904
DTEND;TZID=Africa/Johannesburg;VALUE=DATE:20260905
DTSTAMP:20260311T074024Z
URL:https://engo.co.za/events/ons-woning-basaar/
SUMMARY:Ons Woning Basaar
DESCRIPTION:Kontak vir Elmarie vd Spuy: 071 068 4553
END:VEVENT
BEGIN:VTIMEZONE
TZID:Africa/Johannesburg
X-LIC-LOCATION:Africa/Johannesburg
BEGIN:STANDARD
DTSTART:20250904T000000
TZOFFSETFROM:+0200
TZOFFSETTO:+0200
TZNAME:SAST
END:STANDARD
END:VTIMEZONE
END:VCALENDAR