BEGIN:VCALENDAR
VERSION:2.0
PRODID:-//wp-events-plugin.com//7.0.5//EN
TZID:Africa/Cairo
X-WR-TIMEZONE:Africa/Cairo
BEGIN:VEVENT
UID:0-22@engo.co.za
DTSTART;TZID=Africa/Johannesburg:20251117T180000
DTEND;TZID=Africa/Johannesburg:20251231T220000
DTSTAMP:20251118T171345Z
URL:https://engo.co.za/events/ons-gryse-jeug-engo-kersliggie-uitdaging/
SUMMARY:Liggiefees | Ons Gryse Jeug Sentrum vir Bejaardes
DESCRIPTION:
ATTACH;FMTTYPE=image/jpeg:https://engo.co.za/wp-content/uploads/2025/11/On
 s-Gryse-Jeug-1.png
END:VEVENT
BEGIN:VTIMEZONE
TZID:Africa/Johannesburg
X-LIC-LOCATION:Africa/Johannesburg
BEGIN:STANDARD
DTSTART:20241117T180000
TZOFFSETFROM:+0200
TZOFFSETTO:+0200
TZNAME:SAST
END:STANDARD
END:VTIMEZONE
END:VCALENDAR