BEGIN:VCALENDAR
VERSION:2.0
PRODID:-//wp-events-plugin.com//7.0.5//EN
TZID:Africa/Cairo
X-WR-TIMEZONE:Africa/Cairo
BEGIN:VEVENT
UID:0-52@engo.co.za
DTSTART;TZID=Africa/Johannesburg;VALUE=DATE:20260828
DTEND;TZID=Africa/Johannesburg;VALUE=DATE:20260829
DTSTAMP:20260311T073923Z
URL:https://engo.co.za/events/maluti-fm-gholfdag/
SUMMARY:Maluti FM Gholfdag
DESCRIPTION:Kontak vir Elize Willis: 083 805 0635
END:VEVENT
BEGIN:VTIMEZONE
TZID:Africa/Johannesburg
X-LIC-LOCATION:Africa/Johannesburg
BEGIN:STANDARD
DTSTART:20250828T000000
TZOFFSETFROM:+0200
TZOFFSETTO:+0200
TZNAME:SAST
END:STANDARD
END:VTIMEZONE
END:VCALENDAR