BEGIN:VCALENDAR
VERSION:2.0
PRODID:-//wp-events-plugin.com//7.0.5//EN
TZID:Africa/Cairo
X-WR-TIMEZONE:Africa/Cairo
BEGIN:VEVENT
UID:0-38@engo.co.za
DTSTART;TZID=Africa/Johannesburg:20251205T190000
DTEND;TZID=Africa/Johannesburg:20251205T220000
DTSTAMP:20251124T074100Z
URL:https://engo.co.za/events/liggiefees-senekal-sentrum-vir-bejaardes/
SUMMARY:Liggiefees | Senekal Sentrum vir Bejaardes
DESCRIPTION:
ATTACH;FMTTYPE=image/jpeg:https://engo.co.za/wp-content/uploads/2025/11/En
 go-Senekal-SvB-Liggiefees.jpg
END:VEVENT
BEGIN:VTIMEZONE
TZID:Africa/Johannesburg
X-LIC-LOCATION:Africa/Johannesburg
BEGIN:STANDARD
DTSTART:20241205T190000
TZOFFSETFROM:+0200
TZOFFSETTO:+0200
TZNAME:SAST
END:STANDARD
END:VTIMEZONE
END:VCALENDAR