BEGIN:VCALENDAR
VERSION:2.0
PRODID:-//wp-events-plugin.com//7.0.5//EN
TZID:Africa/Cairo
X-WR-TIMEZONE:Africa/Cairo
BEGIN:VEVENT
UID:0-32@engo.co.za
DTSTART;TZID=Africa/Johannesburg:20251211T180000
DTEND;TZID=Africa/Johannesburg:20251211T210000
DTSTAMP:20251203T081716Z
URL:https://engo.co.za/events/liggiefees-senekal-jeugsorgsentrum/
SUMMARY:Liggiefees | Senekal Kinder- en Jeugsorgsentrum
DESCRIPTION:
ATTACH;FMTTYPE=image/jpeg:https://engo.co.za/wp-content/uploads/2025/11/Se
 nekal-Child-and-Youth-care.jpg
END:VEVENT
BEGIN:VTIMEZONE
TZID:Africa/Johannesburg
X-LIC-LOCATION:Africa/Johannesburg
BEGIN:STANDARD
DTSTART:20241211T180000
TZOFFSETFROM:+0200
TZOFFSETTO:+0200
TZNAME:SAST
END:STANDARD
END:VTIMEZONE
END:VCALENDAR