BEGIN:VCALENDAR
VERSION:2.0
PRODID:-//wp-events-plugin.com//7.0.5//EN
TZID:Africa/Cairo
X-WR-TIMEZONE:Africa/Cairo
BEGIN:VEVENT
UID:0-34@engo.co.za
DTSTART;TZID=Africa/Johannesburg:20251209T180000
DTEND;TZID=Africa/Johannesburg:20251226T200000
DTSTAMP:20251118T172823Z
URL:https://engo.co.za/events/liggiefees-sasolburg-seuns-jeugsorgsentrum/
SUMMARY:Liggiefees | Sasolburg Seuns Kinder- en Jeugsorgsentrum
DESCRIPTION:Kontak vir Corrie Muller by 061 543 1388 / 083 296 3016
ATTACH;FMTTYPE=image/jpeg:https://engo.co.za/wp-content/uploads/2025/11/Li
 ggiefees-Sasolburg-Seuns-Jeugsorgsentrum.jpg
END:VEVENT
BEGIN:VTIMEZONE
TZID:Africa/Johannesburg
X-LIC-LOCATION:Africa/Johannesburg
BEGIN:STANDARD
DTSTART:20241209T180000
TZOFFSETFROM:+0200
TZOFFSETTO:+0200
TZNAME:SAST
END:STANDARD
END:VTIMEZONE
END:VCALENDAR