BEGIN:VCALENDAR
VERSION:2.0
PRODID:-//wp-events-plugin.com//7.0.5//EN
TZID:Africa/Cairo
X-WR-TIMEZONE:Africa/Cairo
BEGIN:VEVENT
UID:0-27@engo.co.za
DTSTART;TZID=Africa/Johannesburg:20251129T160000
DTEND;TZID=Africa/Johannesburg:20251129T210000
DTSTAMP:20251118T171545Z
URL:https://engo.co.za/events/liggiefees-onze-rust/
SUMMARY:Liggiefees | Onze Rust Sentrum vir Bejaardes
DESCRIPTION:
ATTACH;FMTTYPE=image/jpeg:https://engo.co.za/wp-content/uploads/2025/11/Li
 ggiefees-Onze-Rust.jpg
END:VEVENT
BEGIN:VTIMEZONE
TZID:Africa/Johannesburg
X-LIC-LOCATION:Africa/Johannesburg
BEGIN:STANDARD
DTSTART:20241129T160000
TZOFFSETFROM:+0200
TZOFFSETTO:+0200
TZNAME:SAST
END:STANDARD
END:VTIMEZONE
END:VCALENDAR