BEGIN:VCALENDAR
VERSION:2.0
PRODID:-//wp-events-plugin.com//7.0.5//EN
TZID:Africa/Cairo
X-WR-TIMEZONE:Africa/Cairo
BEGIN:VEVENT
UID:0-29@engo.co.za
DTSTART;TZID=Africa/Johannesburg:20251206T190000
DTEND;TZID=Africa/Johannesburg:20251206T220000
DTSTAMP:20251118T055539Z
URL:https://engo.co.za/events/liggiefees-maanblom-kinder-en-jeugsorgsentru
 m/
SUMMARY:Liggiefees | Maanblom Kinder- en Jeugsorgsentrum
DESCRIPTION:
ATTACH;FMTTYPE=image/jpeg:https://engo.co.za/wp-content/uploads/2025/11/Ma
 anblom.jpg
END:VEVENT
BEGIN:VTIMEZONE
TZID:Africa/Johannesburg
X-LIC-LOCATION:Africa/Johannesburg
BEGIN:STANDARD
DTSTART:20241206T190000
TZOFFSETFROM:+0200
TZOFFSETTO:+0200
TZNAME:SAST
END:STANDARD
END:VTIMEZONE
END:VCALENDAR