BEGIN:VCALENDAR
VERSION:2.0
PRODID:-//wp-events-plugin.com//7.0.5//EN
TZID:Africa/Cairo
X-WR-TIMEZONE:Africa/Cairo
BEGIN:VEVENT
UID:0-35@engo.co.za
DTSTART;TZID=Africa/Johannesburg:20251205T170000
DTEND;TZID=Africa/Johannesburg:20251205T210000
DTSTAMP:20251118T171954Z
URL:https://engo.co.za/events/liggiefees-kersmark-trompsburg-sentrum-vir-b
 ejaardes/
SUMMARY:Liggiefees & Kersmark | Trompsburg Sentrum vir Bejaardes
DESCRIPTION:Kontak vir Marice de Nysschen by 060 589 2001
ATTACH;FMTTYPE=image/jpeg:https://engo.co.za/wp-content/uploads/2025/11/Tr
 ompsburg-SVB-Fees-1.png
END:VEVENT
BEGIN:VTIMEZONE
TZID:Africa/Johannesburg
X-LIC-LOCATION:Africa/Johannesburg
BEGIN:STANDARD
DTSTART:20241205T170000
TZOFFSETFROM:+0200
TZOFFSETTO:+0200
TZNAME:SAST
END:STANDARD
END:VTIMEZONE
END:VCALENDAR