BEGIN:VCALENDAR
VERSION:2.0
PRODID:-//wp-events-plugin.com//7.0.5//EN
TZID:Africa/Cairo
X-WR-TIMEZONE:Africa/Cairo
BEGIN:VEVENT
UID:0-26@engo.co.za
DTSTART;TZID=Africa/Johannesburg:20251209T180000
DTEND;TZID=Africa/Johannesburg:20251209T210000
DTSTAMP:20251118T172432Z
URL:https://engo.co.za/events/liggiefees-cloc-in-sentrum-vir-bejaardes/
SUMMARY:Liggiefees | Cloc-In Sentrum vir Bejaardes
DESCRIPTION:Kontak vir Charmaine by 074 900 4148
ATTACH;FMTTYPE=image/jpeg:https://engo.co.za/wp-content/uploads/2025/11/Li
 ggiefees-Cloc-In-Sentrum-vir-Bejaardes.jpg
END:VEVENT
BEGIN:VTIMEZONE
TZID:Africa/Johannesburg
X-LIC-LOCATION:Africa/Johannesburg
BEGIN:STANDARD
DTSTART:20241209T180000
TZOFFSETFROM:+0200
TZOFFSETTO:+0200
TZNAME:SAST
END:STANDARD
END:VTIMEZONE
END:VCALENDAR