BEGIN:VCALENDAR
VERSION:2.0
PRODID:-//wp-events-plugin.com//7.0.5//EN
TZID:Africa/Cairo
X-WR-TIMEZONE:Africa/Cairo
BEGIN:VEVENT
UID:0-31@engo.co.za
DTSTART;TZID=Africa/Johannesburg:20251121T173000
DTEND;TZID=Africa/Johannesburg:20251121T173000
DTSTAMP:20251118T171508Z
URL:https://engo.co.za/events/liefdadigheidswedloop-winburg-kinder-en-jeug
 sorgsentrum/
SUMMARY:Liefdadigheidswedloop | Winburg Kinder- en Jeugsorgsentrum
DESCRIPTION:Kontak vir Emérize Swart by 079 559 7700
ATTACH;FMTTYPE=image/jpeg:https://engo.co.za/wp-content/uploads/2025/11/Wi
 nburg-New-1.png
END:VEVENT
BEGIN:VTIMEZONE
TZID:Africa/Johannesburg
X-LIC-LOCATION:Africa/Johannesburg
BEGIN:STANDARD
DTSTART:20241121T173000
TZOFFSETFROM:+0200
TZOFFSETTO:+0200
TZNAME:SAST
END:STANDARD
END:VTIMEZONE
END:VCALENDAR