BEGIN:VCALENDAR
VERSION:2.0
PRODID:-//wp-events-plugin.com//7.0.5//EN
TZID:Africa/Cairo
X-WR-TIMEZONE:Africa/Cairo
BEGIN:VEVENT
UID:0-24@engo.co.za
DTSTART;TZID=Africa/Johannesburg:20251204T090000
DTEND;TZID=Africa/Johannesburg:20251204T130000
DTSTAMP:20251118T171804Z
URL:https://engo.co.za/events/kersmark-ons-tuiste/
SUMMARY:Kersmark | Ons Tuiste Sentrum vir Bejaardes
DESCRIPTION:Kontak vir Lize-Mey by 063 050 1183
ATTACH;FMTTYPE=image/jpeg:https://engo.co.za/wp-content/uploads/2025/11/On
 s-Tuiste-Kersmark.jpg
END:VEVENT
BEGIN:VTIMEZONE
TZID:Africa/Johannesburg
X-LIC-LOCATION:Africa/Johannesburg
BEGIN:STANDARD
DTSTART:20241204T090000
TZOFFSETFROM:+0200
TZOFFSETTO:+0200
TZNAME:SAST
END:STANDARD
END:VTIMEZONE
END:VCALENDAR