BEGIN:VCALENDAR
VERSION:2.0
PRODID:-//wp-events-plugin.com//7.0.5//EN
TZID:Africa/Cairo
X-WR-TIMEZONE:Africa/Cairo
BEGIN:VEVENT
UID:0-20@engo.co.za
DTSTART;TZID=Africa/Johannesburg:20251025T183000
DTEND;TZID=Africa/Johannesburg:20251025T200000
DTSTAMP:20251021T081112Z
URL:https://engo.co.za/events/joe-black-by-klipkerk-n-aand-wat-jy-nie-wil-
 misloop-nie/
SUMMARY:Joe Black by Klipkerk
DESCRIPTION:Kom geniet ’n inspirerende en onvergeetlike aand saam met Joe
  Black op Saterdag\, 25 Oktober 2025 by Klipkerk (NG Kerk)\, Aliwalstraat\
 , Bloemfontein.\n\nKaartjieprys: R220 per persoon\n\nKaartjies beskikbaar 
 by: ENGO Gesinsorgkantoor\, 26 Van Heerdenweg\, Wilgehof\, Bloemfontein\n\
 nMoenie hierdie spesiale geleentheid misloop nie – bring familie en vrie
 nde en beleef Joe Black se kragtige musiek en boodskap saam met ons.
ATTACH;FMTTYPE=image/jpeg:https://engo.co.za/wp-content/uploads/2025/10/Jo
 e-Black.jpeg
END:VEVENT
BEGIN:VTIMEZONE
TZID:Africa/Johannesburg
X-LIC-LOCATION:Africa/Johannesburg
BEGIN:STANDARD
DTSTART:20241025T183000
TZOFFSETFROM:+0200
TZOFFSETTO:+0200
TZNAME:SAST
END:STANDARD
END:VTIMEZONE
END:VCALENDAR