BEGIN:VCALENDAR
VERSION:2.0
PRODID:-//wp-events-plugin.com//7.0.5//EN
TZID:Africa/Cairo
X-WR-TIMEZONE:Africa/Cairo
BEGIN:VEVENT
UID:0-55@engo.co.za
DTSTART;TZID=Africa/Johannesburg;VALUE=DATE:20260915
DTEND;TZID=Africa/Johannesburg;VALUE=DATE:20260916
DTSTAMP:20260311T074254Z
URL:https://engo.co.za/events/iopsa-gholfdag/
SUMMARY:IOPSA Gholfdag
DESCRIPTION:
END:VEVENT
BEGIN:VTIMEZONE
TZID:Africa/Johannesburg
X-LIC-LOCATION:Africa/Johannesburg
BEGIN:STANDARD
DTSTART:20250915T000000
TZOFFSETFROM:+0200
TZOFFSETTO:+0200
TZNAME:SAST
END:STANDARD
END:VTIMEZONE
END:VCALENDAR