BEGIN:VCALENDAR
VERSION:2.0
PRODID:-//wp-events-plugin.com//7.0.5//EN
TZID:Africa/Cairo
X-WR-TIMEZONE:Africa/Cairo
BEGIN:VEVENT
UID:0-21@engo.co.za
DTSTART;TZID=Africa/Johannesburg:20251114T170000
DTEND;TZID=Africa/Johannesburg:20251114T170000
DTSTAMP:20251114T081947Z
URL:https://engo.co.za/events/huis-sorgvry-engo-kersliggie-uitdaging/
SUMMARY:Liggiefees | Huis Sorgvry
DESCRIPTION:
ATTACH;FMTTYPE=image/jpeg:https://engo.co.za/wp-content/uploads/2025/11/Hu
 is-Sorgvry.png
END:VEVENT
BEGIN:VTIMEZONE
TZID:Africa/Johannesburg
X-LIC-LOCATION:Africa/Johannesburg
BEGIN:STANDARD
DTSTART:20241114T170000
TZOFFSETFROM:+0200
TZOFFSETTO:+0200
TZNAME:SAST
END:STANDARD
END:VTIMEZONE
END:VCALENDAR