BEGIN:VCALENDAR
VERSION:2.0
PRODID:-//wp-events-plugin.com//7.0.5//EN
TZID:Africa/Cairo
X-WR-TIMEZONE:Africa/Cairo
BEGIN:VEVENT
UID:0-19@engo.co.za
DTSTART;TZID=Africa/Johannesburg:20251102T110000
DTEND;TZID=Africa/Johannesburg:20251102T120000
DTSTAMP:20251009T085114Z
URL:https://engo.co.za/events/engo-gesinsorg-viljoenskroon-drive-thru-ete/
SUMMARY:Engo Gesinsorg Viljoenskroon “Drive-Thru” Ete
DESCRIPTION:Kom geniet ’n heerlike Drive-Thru ete saam met Engo Gesinsorg
  Viljoenskroon by die NG Kerk!\nLaat iemand anders vir ’n slag kook terw
 yl jy help om ’n verskil te maak in ons gemeenskap. Al die fondse onders
 teun ENGO se versorgingsdienste in die Vrystaat.\n\nSpyskaart:\n\n 	Hoende
 rdytjie\n 	Gespite vark\n 	Aartappelslaai\n 	Wortelslaai\n 	Cocktail brood
 jie\n\nNagereg:\n\n 	Jelly met vla\n\n💳 Prys: R100 per bord\n📅 Laast
 e bestellings: 27 Oktober 2025\n📞 Plaas jou bestelling by:\n\n 	Rona 
 – 072 241 6362\n 	Antionette – 078 189 8669\n\nBankbesonderhede:\nEngo
  Family Care Viljoenskroon\nABSA Tjekrekening\nRekeningnommer: 1720 6800 4
 8\nVerwysing: Naam + Ete (bv. Piet Ete)\n\nStuur jou bewys van betaling aa
 n die persoon by wie jy die bestelling geplaas het om dit te bevestig.\n\n
 Kom ondersteun ’n goeie saak en geniet ’n smaaklike ete vir ’n wonde
 rlike doel!
ATTACH;FMTTYPE=image/jpeg:https://engo.co.za/wp-content/uploads/2025/10/Ge
 sinsorg-Viljoenskroon.jpg
END:VEVENT
BEGIN:VTIMEZONE
TZID:Africa/Johannesburg
X-LIC-LOCATION:Africa/Johannesburg
BEGIN:STANDARD
DTSTART:20241102T110000
TZOFFSETFROM:+0200
TZOFFSETTO:+0200
TZNAME:SAST
END:STANDARD
END:VTIMEZONE
END:VCALENDAR