BEGIN:VCALENDAR
VERSION:2.0
PRODID:-//wp-events-plugin.com//7.0.5//EN
TZID:Africa/Cairo
X-WR-TIMEZONE:Africa/Cairo
BEGIN:VEVENT
UID:0-25@engo.co.za
DTSTART;TZID=Africa/Johannesburg;VALUE=DATE:20251114
DTEND;TZID=Africa/Johannesburg;VALUE=DATE:20251115
DTSTAMP:20251113T161604Z
URL:https://engo.co.za/events/ctk-kinder-en-jeugsorgsentrum-gholfdag/
SUMMARY:CTK Kinder- en Jeugsorgsentrum Gholfdag
DESCRIPTION:Kom geniet 'n lekker bederf GHOLFDAG ten bate van CTK Kinder- e
 n Jeugsorgsentrum!\n\nVRYDAG 14 NOVEMBER 2025\n\nThe Clarens Golf &amp\; L
 eisure Estate\n\n2-Ball-Scramble Drive\nR1200 per 2 Bal\nHalfweg &amp\; Aa
 ndete Ingesluit\n\nHeindrich Dyer by: (072) 247 1376 | ctkgolfday.team@gma
 il.com
ATTACH;FMTTYPE=image/jpeg:https://engo.co.za/wp-content/uploads/2025/11/CT
 K-Kinder-en-Jeugsorgsentrum-Gholfdag.jpg
END:VEVENT
BEGIN:VTIMEZONE
TZID:Africa/Johannesburg
X-LIC-LOCATION:Africa/Johannesburg
BEGIN:STANDARD
DTSTART:20241114T000000
TZOFFSETFROM:+0200
TZOFFSETTO:+0200
TZNAME:SAST
END:STANDARD
END:VTIMEZONE
END:VCALENDAR