BEGIN:VCALENDAR
VERSION:2.0
PRODID:-//wp-events-plugin.com//7.0.5//EN
TZID:Africa/Cairo
X-WR-TIMEZONE:Africa/Cairo
BEGIN:VEVENT
UID:0-63@engo.co.za
DTSTART;TZID=Africa/Johannesburg;VALUE=DATE:20261031
DTEND;TZID=Africa/Johannesburg;VALUE=DATE:20261101
DTSTAMP:20260311T075044Z
URL:https://engo.co.za/events/ctk-basaar/
SUMMARY:CTK Basaar
DESCRIPTION:Kontak vir Surette Labuschagne: 073 612 5249
END:VEVENT
BEGIN:VTIMEZONE
TZID:Africa/Johannesburg
X-LIC-LOCATION:Africa/Johannesburg
BEGIN:STANDARD
DTSTART:20251031T000000
TZOFFSETFROM:+0200
TZOFFSETTO:+0200
TZNAME:SAST
END:STANDARD
END:VTIMEZONE
END:VCALENDAR