BEGIN:VCALENDAR
VERSION:2.0
PRODID:-//wp-events-plugin.com//7.0.5//EN
TZID:Africa/Cairo
X-WR-TIMEZONE:Africa/Cairo
BEGIN:VEVENT
UID:0-64@engo.co.za
DTSTART;TZID=Africa/Johannesburg;VALUE=DATE:20261109
DTEND;TZID=Africa/Johannesburg;VALUE=DATE:20261110
DTSTAMP:20260311T075135Z
URL:https://engo.co.za/events/aannemings-ooievaarss-tee/
SUMMARY:Aannemings Ooievaarss-tee
DESCRIPTION:
END:VEVENT
BEGIN:VTIMEZONE
TZID:Africa/Johannesburg
X-LIC-LOCATION:Africa/Johannesburg
BEGIN:STANDARD
DTSTART:20251109T000000
TZOFFSETFROM:+0200
TZOFFSETTO:+0200
TZNAME:SAST
END:STANDARD
END:VTIMEZONE
END:VCALENDAR